BEGIN:VCALENDAR
VERSION:2.0
METHOD:PUBLISH
CALSCALE:GREGORIAN
PRODID:-//WordPress - MECv7.17.1//EN
X-ORIGINAL-URL:https://oakland61.org/
X-WR-CALNAME:Oakland Lodge, No. 61
X-WR-CALDESC:Oakland Lodge, No. 61
REFRESH-INTERVAL;VALUE=DURATION:PT1H
X-PUBLISHED-TTL:PT1H
X-MS-OLK-FORCEINSPECTOROPEN:TRUE
BEGIN:VEVENT
CLASS:PUBLIC
UID:MEC-ef575e8837d065a1683c022d2077d342@oakland61.org
DTSTART:20260512T020000Z
DTEND:20260512T040000Z
DTSTAMP:20240822T220900Z
RRULE:FREQ=MONTHLY;WKST=MO;BYDAY=2MO
CREATED:20240822
LAST-MODIFIED:20240822
PRIORITY:5
SEQUENCE:0
TRANSP:OPAQUE
SUMMARY:Book Club
DESCRIPTION:
URL:https://oakland61.org/events/book-club-3/
LOCATION:5449 College Ave, Oakland, CA 94618, USA
END:VEVENT
BEGIN:VEVENT
CLASS:PUBLIC
UID:MEC-8fecb20817b3847419bb3de39a609afe@oakland61.org
DTSTART:20270301T080100Z
DTEND:20270303T075900Z
DTSTAMP:20241213T222900Z
RRULE:FREQ=YEARLY
CREATED:20241213
LAST-MODIFIED:20241213
PRIORITY:5
SEQUENCE:0
TRANSP:OPAQUE
SUMMARY:Scholarship Applications Open
DESCRIPTION:
URL:https://oakland61.org/events/scholarship-applications-open-2/
END:VEVENT
BEGIN:VEVENT
CLASS:PUBLIC
UID:MEC-dc6a70712a252123c40d2adba6a11d84@oakland61.org
DTSTART:20260515T070100Z
DTEND:20260517T065900Z
DTSTAMP:20241213T212900Z
RRULE:FREQ=YEARLY
CREATED:20241213
LAST-MODIFIED:20241213
PRIORITY:5
SEQUENCE:0
TRANSP:OPAQUE
SUMMARY:Scholarship Applications Close
DESCRIPTION:
URL:https://oakland61.org/events/scholarship-applications-close-2/
END:VEVENT
BEGIN:VEVENT
CLASS:PUBLIC
UID:MEC-0cb929eae7a499e50248a3a78f7acfc7@oakland61.org
DTSTART:20260508T010000Z
DTEND:20260508T040000Z
DTSTAMP:20241214T213400Z
RRULE:FREQ=MONTHLY;WKST=MO;BYDAY=1TH
CREATED:20241214
LAST-MODIFIED:20241214
PRIORITY:5
SEQUENCE:0
TRANSP:OPAQUE
SUMMARY:Oakland 61 – Stated Meeting
DESCRIPTION:Social hour at 6:00pm\nDinner at 6:30\nMeeting at 7:30\nFellowship afterward\n
URL:https://oakland61.org/events/oakland-61-stated-meeting-2/
LOCATION:Rockridge Masonic Center, 5449 College Ave, Oakland, CA 94618, USA
END:VEVENT
BEGIN:VEVENT
CLASS:PUBLIC
UID:MEC-210f760a89db30aa72ca258a3483cc7f@oakland61.org
DTSTART:20260514T013000Z
DTEND:20260514T040000Z
DTSTAMP:20260108T213300Z
RRULE:FREQ=MONTHLY;WKST=MO;BYDAY=2WE
CREATED:20260108
LAST-MODIFIED:20260108
PRIORITY:5
SEQUENCE:0
TRANSP:OPAQUE
SUMMARY:Rockridge Hall Association Meeting
DESCRIPTION:Dress is casual.  A light meal at 6:30 pm with the meeting to follow.\n
URL:https://oakland61.org/events/rockridge-hall-association-meeting-2/
LOCATION:Rockridge Masonic Center, 5449 College Ave, Oakland, CA 94618, USA
END:VEVENT
BEGIN:VEVENT
CLASS:PUBLIC
UID:MEC-e995f98d56967d946471af29d7bf99f1@oakland61.org
DTSTART:20260428T020000Z
DTEND:20260428T030000Z
DTSTAMP:20260422T222800Z
RRULE:FREQ=MONTHLY;WKST=MO;BYDAY=4MO
CREATED:20260422
LAST-MODIFIED:20260422
PRIORITY:5
SEQUENCE:0
TRANSP:OPAQUE
SUMMARY:Discovering Masonic Secrets
DESCRIPTION:
URL:https://oakland61.org/events/discovering-masonic-secrets/
LOCATION:5449 College Ave, Oakland, CA 94618, USA
END:VEVENT
BEGIN:VEVENT
CLASS:PUBLIC
UID:MEC-51ef186e18dc00c2d31982567235c559@oakland61.org
DTSTART:20260522T013000Z
DTEND:20260522T040000Z
DTSTAMP:20260422T222800Z
CREATED:20260422
LAST-MODIFIED:20260422
PRIORITY:5
SEQUENCE:0
TRANSP:OPAQUE
SUMMARY:DOSI @ Orinda # 122
DESCRIPTION:Dress is casual and open to MMs\n
URL:https://oakland61.org/events/dosi-lodge-122/
LOCATION:Orinda Masonic Lodge № 122, 9 Altarinda Rd, Orinda, CA 94563, USA
END:VEVENT
BEGIN:VEVENT
CLASS:PUBLIC
UID:MEC-4b0a59ddf11c58e7446c9df0da541a84@oakland61.org
DTSTART:20260617T013000Z
DTEND:20260617T040000Z
DTSTAMP:20260422T222800Z
CREATED:20260422
LAST-MODIFIED:20260422
PRIORITY:5
SEQUENCE:0
TRANSP:OPAQUE
SUMMARY:DOSI @ Acalanes Fellowship # 480
DESCRIPTION:Dress is casual and open to MMs\n
URL:https://oakland61.org/events/dosi-lodge-480-2/
LOCATION:Acalanes Fellowship Masonic Lodge #480, 925 Moraga Rd, Lafayette, CA 94549, USA
END:VEVENT
BEGIN:VEVENT
CLASS:PUBLIC
UID:MEC-ede7e2b6d13a41ddf9f4bdef84fdc737@oakland61.org
DTSTART:20260503T010000Z
DTEND:20260503T040000Z
DTSTAMP:20260422T222800Z
CREATED:20260422
LAST-MODIFIED:20260422
PRIORITY:5
SEQUENCE:0
TRANSP:OPAQUE
SUMMARY:Orinda Lodge #122 Rib Cook-Off
DESCRIPTION:Dress is casual.\n
URL:https://oakland61.org/events/orinda-lodge-122-rib-cook-off/
LOCATION:Orinda Masonic Lodge № 122, 9 Altarinda Rd, Orinda, CA 94563, USA
END:VEVENT
BEGIN:VEVENT
CLASS:PUBLIC
UID:MEC-c4015b7f368e6b4871809f49debe0579@oakland61.org
DTSTART:20260505T013000Z
DTEND:20260505T030000Z
DTSTAMP:20260422T222700Z
CREATED:20260422
LAST-MODIFIED:20260422
PRIORITY:5
SEQUENCE:0
TRANSP:OPAQUE
SUMMARY:Candidate Coaching
DESCRIPTION:Dress is casual.\n
URL:https://oakland61.org/events/candidate-coaching/
LOCATION:Rockridge Masonic Center, 5449 College Ave, Oakland, CA 94618, USA
END:VEVENT
BEGIN:VEVENT
CLASS:PUBLIC
UID:MEC-7ce3284b743aefde80ffd9aec500e085@oakland61.org
DTSTART:20260424T190000Z
DTEND:20260426T193000Z
DTSTAMP:20260422T222700Z
CREATED:20260422
LAST-MODIFIED:20260422
PRIORITY:5
SEQUENCE:0
TRANSP:OPAQUE
SUMMARY:Grand Lodge Leadership Retreat NW
DESCRIPTION:Dress is casual.\n
URL:https://oakland61.org/events/grand-lodge-leadership-retreat/
LOCATION:San Ramon Marriott, 2600 Bishop Dr, San Ramon, CA 94583, USA
END:VEVENT
BEGIN:VEVENT
CLASS:PUBLIC
UID:MEC-430c3626b879b4005d41b8a46172e0c0@oakland61.org
DTSTART:20260828T010000Z
DTEND:20260828T040000Z
DTSTAMP:20260422T222700Z
CREATED:20260422
LAST-MODIFIED:20260422
PRIORITY:5
SEQUENCE:0
TRANSP:OPAQUE
SUMMARY:Golden Veteran Awards
DESCRIPTION:Dress for officer is coat & tie and for others it is business casual.  Social time begins at 6:00 pm with dinner at 6:30 followed by award presentations.\n
URL:https://oakland61.org/events/golden-veteran-awards/
LOCATION:Rockridge Masonic Center, 5449 College Ave, Oakland, CA 94618, USA
END:VEVENT
BEGIN:VEVENT
CLASS:PUBLIC
UID:MEC-aa169b49b583a2b5af89203c2b78c67c@oakland61.org
DTSTART:20261009T153000Z
DTEND:20261011T210000Z
DTSTAMP:20260422T222700Z
CREATED:20260422
LAST-MODIFIED:20260422
PRIORITY:5
SEQUENCE:0
TRANSP:OPAQUE
SUMMARY:Annual Communication
DESCRIPTION:
URL:https://oakland61.org/events/annual-communication/
END:VEVENT
BEGIN:VEVENT
CLASS:PUBLIC
UID:MEC-704afe073992cbe4813cae2f7715336f@oakland61.org
DTSTART:20260501T013000Z
DTEND:20260501T043000Z
DTSTAMP:20260422T222700Z
CREATED:20260422
LAST-MODIFIED:20260422
PRIORITY:5
SEQUENCE:0
TRANSP:OPAQUE
SUMMARY:Annual Paint & Sip Gathering
DESCRIPTION:Dress is casual.  Dinner at 6:30 with the programs the spouses/significant others to follow.  Brothers will adjourn to the lodge room for a degree practice. Please RSVP via email announcement or (510)576-6729.\n
URL:https://oakland61.org/events/annual-paint-sip-gathering/
LOCATION:Rockridge Masonic Center, 5449 College Ave, Oakland, CA 94618, USA
END:VEVENT
BEGIN:VEVENT
CLASS:PUBLIC
UID:MEC-7504adad8bb96320eb3afdd4df6e1f60@oakland61.org
DTSTART:20261212T230000Z
DTEND:20261213T033000Z
DTSTAMP:20260422T232700Z
CREATED:20260422
LAST-MODIFIED:20260422
PRIORITY:5
SEQUENCE:0
TRANSP:OPAQUE
SUMMARY:2027 Officers’ Installation
DESCRIPTION:Dress for officers is tuxedo and coat & tie for all other gentlemen .  Dress for ladies is the appropriate attire to match the men’s dress. Show time for officers is 1:30 p.m., arrival time for guest is 2:45.  The installation will begin at 3:00.  Reception social time will begin at approximately 4:45 and dinner at about 5:15.  RSVP via the email announcement or 304-201-3880\n
URL:https://oakland61.org/events/2027-officers-installation/
END:VEVENT
BEGIN:VEVENT
CLASS:PUBLIC
UID:MEC-1f50893f80d6830d62765ffad7721742@oakland61.org
DTSTART:20261205T170000Z
DTEND:20261205T200000Z
DTSTAMP:20260422T232700Z
CREATED:20260422
LAST-MODIFIED:20260422
PRIORITY:5
SEQUENCE:0
TRANSP:OPAQUE
SUMMARY:Children’s X-Mas Party
DESCRIPTION:Dress is casual.  Helpers show by 7:30 am and for all others it’s 9:00.\n
URL:https://oakland61.org/events/childrens-x-mas-party/
LOCATION:Rockridge Masonic Center, 5449 College Ave, Oakland, CA 94618, USA
END:VEVENT
BEGIN:VEVENT
CLASS:PUBLIC
UID:MEC-d516b13671a4179d9b7b458a6ebdeb92@oakland61.org
DTSTART:20261120T023000Z
DTEND:20261120T050000Z
DTSTAMP:20260422T232700Z
CREATED:20260422
LAST-MODIFIED:20260422
PRIORITY:5
SEQUENCE:0
TRANSP:OPAQUE
SUMMARY:DOSI @ Lodge # 122
DESCRIPTION:Dress is casual and all Masons are welcome.\n
URL:https://oakland61.org/events/dosi-lodge-122-2/
LOCATION:Orinda Masonic Center, 9 Altarinda Rd, Orinda, CA 94563, USA
END:VEVENT
BEGIN:VEVENT
CLASS:PUBLIC
UID:MEC-dd8eb9f23fbd362da0e3f4e70b878c16@oakland61.org
DTSTART:20261021T013000Z
DTEND:20261021T040000Z
DTSTAMP:20260422T222700Z
CREATED:20260422
LAST-MODIFIED:20260422
PRIORITY:5
SEQUENCE:0
TRANSP:OPAQUE
SUMMARY:DOSI @ Lodge # 337
DESCRIPTION:Dress is casual and open to all Masons.\n
URL:https://oakland61.org/events/dosi-lodge-337-2/
LOCATION:Bay Cities Masonic Lodge #337, 5050 El Portal Dr, Richmond, CA 94803, USA
END:VEVENT
BEGIN:VEVENT
CLASS:PUBLIC
UID:MEC-352407221afb776e3143e8a1a0577885@oakland61.org
DTSTART:20260918T013000Z
DTEND:20260918T040000Z
DTSTAMP:20260422T222700Z
CREATED:20260422
LAST-MODIFIED:20260422
PRIORITY:5
SEQUENCE:0
TRANSP:OPAQUE
SUMMARY:DOSI @ Lodge # 894
DESCRIPTION:Dress is casual and all Masons are welcome.\n
URL:https://oakland61.org/events/dosi-lodge-894-2/
LOCATION:Orinda Masonic Center, 9 Altarinda Rd, Orinda, CA 94563, USA
END:VEVENT
BEGIN:VEVENT
CLASS:PUBLIC
UID:MEC-67d16d00201083a2b118dd5128dd6f59@oakland61.org
DTSTART:20260821T013000Z
DTEND:20260821T040000Z
DTSTAMP:20260422T222700Z
CREATED:20260422
LAST-MODIFIED:20260422
PRIORITY:5
SEQUENCE:0
TRANSP:OPAQUE
SUMMARY:DOSI @ Lodge # 61
DESCRIPTION:Dress is casual and open to all Masons.  Oakland #61 will demonstrate both sections of the 1st Degree and Exemplification\n
URL:https://oakland61.org/events/dosi-lodge-61/
LOCATION:Rockridge Masonic Center, 5449 College Ave, Oakland, CA 94618, USA
END:VEVENT
BEGIN:VEVENT
CLASS:PUBLIC
UID:MEC-dd45045f8c68db9f54e70c67048d32e8@oakland61.org
DTSTART:20260925T010000Z
DTEND:20260925T040000Z
DTSTAMP:20260422T222700Z
CREATED:20260422
LAST-MODIFIED:20260422
PRIORITY:5
SEQUENCE:0
TRANSP:OPAQUE
SUMMARY:Oakland Lodge #61 Visit to Orinda Lodge #122
DESCRIPTION:This will be the 100th such visit and will be a Festive Board.  Details to be announce closer to the event.\n
URL:https://oakland61.org/events/oakland-lodge-61-visit-to-orinda-lodge-122/
LOCATION:Orinda Masonic Lodge № 122, 9 Altarinda Rd, Orinda, CA 94563, USA
END:VEVENT
BEGIN:VEVENT
CLASS:PUBLIC
UID:MEC-90794e3b050f815354e3e29e977a88ab@oakland61.org
DTSTART:20260630T013000Z
DTEND:20260630T030000Z
DTSTAMP:20260415T223000Z
CREATED:20260415
LAST-MODIFIED:20260415
PRIORITY:5
SEQUENCE:0
TRANSP:OPAQUE
SUMMARY:Candidates Coaching
DESCRIPTION:Dress is casual.\n
URL:https://oakland61.org/events/candidates-coaching-4/
LOCATION:Rockridge Masonic Center, 5449 College Ave, Oakland, CA 94618, USA
END:VEVENT
BEGIN:VEVENT
CLASS:PUBLIC
UID:MEC-e820a45f1dfc7b95282d10b6087e11c0@oakland61.org
DTSTART:20260616T013000Z
DTEND:20260616T030000Z
DTSTAMP:20260415T223000Z
CREATED:20260415
LAST-MODIFIED:20260415
PRIORITY:5
SEQUENCE:0
TRANSP:OPAQUE
SUMMARY:Candidates Coaching
DESCRIPTION:Dress is casual.\n
URL:https://oakland61.org/events/candidates-coaching/
LOCATION:Rockridge Masonic Center, 5449 College Ave, Oakland, CA 94618, USA
END:VEVENT
BEGIN:VEVENT
CLASS:PUBLIC
UID:MEC-4daa3db355ef2b0e64b472968cb70f0d@oakland61.org
DTSTART:20260626T013000Z
DTEND:20260626T040000Z
DTSTAMP:20260414T223500Z
CREATED:20260414
LAST-MODIFIED:20260414
PRIORITY:5
SEQUENCE:0
TRANSP:OPAQUE
SUMMARY:TBD
DESCRIPTION:
URL:https://oakland61.org/events/tbd-2/
LOCATION:Rockridge Masonic Center, 5449 College Ave, Oakland, CA 94618, USA
END:VEVENT
BEGIN:VEVENT
CLASS:PUBLIC
UID:MEC-043c3d7e489c69b48737cc0c92d0f3a2@oakland61.org
DTSTART:20260619T013000Z
DTEND:20260619T040000Z
DTSTAMP:20260414T223500Z
CREATED:20260414
LAST-MODIFIED:20260414
PRIORITY:5
SEQUENCE:0
TRANSP:OPAQUE
SUMMARY:TBD
DESCRIPTION:
URL:https://oakland61.org/events/tbd/
LOCATION:Rockridge Masonic Center, 5449 College Ave, Oakland, CA 94618, USA
END:VEVENT
BEGIN:VEVENT
CLASS:PUBLIC
UID:MEC-1f4477bad7af3616c1f933a02bfabe4e@oakland61.org
DTSTART:20260529T013000Z
DTEND:20260529T040000Z
DTSTAMP:20260319T222800Z
CREATED:20260319
LAST-MODIFIED:20260319
PRIORITY:5
SEQUENCE:0
TRANSP:OPAQUE
SUMMARY:TBD
DESCRIPTION:
URL:https://oakland61.org/events/tbd-4/
LOCATION:Rockridge Masonic Center, 5449 College Ave, Oakland, CA 94618, USA
END:VEVENT
BEGIN:VEVENT
CLASS:PUBLIC
UID:MEC-cbb6a3b884f4f88b3a8e3d44c636cbd8@oakland61.org
DTSTART:20260515T013000Z
DTEND:20260515T040000Z
DTSTAMP:20260319T222800Z
CREATED:20260319
LAST-MODIFIED:20260319
PRIORITY:5
SEQUENCE:0
TRANSP:OPAQUE
SUMMARY:TBD
DESCRIPTION:
URL:https://oakland61.org/events/tbd-3/
LOCATION:Rockridge Masonic Center, 5449 College Ave, Oakland, CA 94618, USA
END:VEVENT
BEGIN:VEVENT
CLASS:PUBLIC
UID:MEC-7fa732b517cbed14a48843d74526c11a@oakland61.org
DTSTART:20260602T013000Z
DTEND:20260602T030000Z
DTSTAMP:20260319T222800Z
CREATED:20260319
LAST-MODIFIED:20260319
PRIORITY:5
SEQUENCE:0
TRANSP:OPAQUE
SUMMARY:Candidates Coaching
DESCRIPTION:Dress is casual.\n
URL:https://oakland61.org/events/candidates-coaching-3/
LOCATION:Rockridge Masonic Center, 5449 College Ave, Oakland, CA 94618, USA
END:VEVENT
BEGIN:VEVENT
CLASS:PUBLIC
UID:MEC-bea5955b308361a1b07bc55042e25e54@oakland61.org
DTSTART:20260519T013000Z
DTEND:20260519T030000Z
DTSTAMP:20260319T222800Z
CREATED:20260319
LAST-MODIFIED:20260319
PRIORITY:5
SEQUENCE:0
TRANSP:OPAQUE
SUMMARY:Candidates Coaching
DESCRIPTION:Dress is casual.\n
URL:https://oakland61.org/events/candidates-coaching-2/
LOCATION:Rockridge Masonic Center, 5449 College Ave, Oakland, CA 94618, USA
END:VEVENT
BEGIN:VEVENT
CLASS:PUBLIC
UID:MEC-ccc0aa1b81bf81e16c676ddb977c5881@oakland61.org
DTSTART:20260612T010000Z
DTEND:20260612T040000Z
DTSTAMP:20260316T222700Z
CREATED:20260316
LAST-MODIFIED:20260316
PRIORITY:5
SEQUENCE:0
TRANSP:OPAQUE
SUMMARY:Golden Veteran Awards
DESCRIPTION:Dress is business casual.  Social time begins at 6:00 pm with dinner at 6:30 followed by award presentations.\n
URL:https://oakland61.org/events/golden-veteran-awards-2/
LOCATION:Rockridge Masonic Center, 5449 College Ave, Oakland, CA 94618, USA
END:VEVENT
BEGIN:VEVENT
CLASS:PUBLIC
UID:MEC-07871915a8107172b3b5dc15a6574ad3@oakland61.org
DTSTART:20260529T190000Z
DTEND:20260531T193000Z
DTSTAMP:20260115T212800Z
CREATED:20260115
LAST-MODIFIED:20260115
PRIORITY:5
SEQUENCE:0
TRANSP:OPAQUE
SUMMARY:Grand Lodge Leadership Retreat
DESCRIPTION:Dress is casual.\n
URL:https://oakland61.org/events/grand-lodge-leadership-retreat-3/
LOCATION:Irvine, CA, USA
END:VEVENT
BEGIN:VEVENT
CLASS:PUBLIC
UID:MEC-0a113ef6b61820daa5611c870ed8d5ee@oakland61.org
DTSTART:20260515T190000Z
DTEND:20260517T193000Z
DTSTAMP:20260115T212800Z
CREATED:20260115
LAST-MODIFIED:20260115
PRIORITY:5
SEQUENCE:0
TRANSP:OPAQUE
SUMMARY:Grand Lodge Leadership Retreat
DESCRIPTION:Dress is casual.\n
URL:https://oakland61.org/events/grand-lodge-leadership-retreat-2/
LOCATION:Palm Springs, CA, USA
END:VEVENT
END:VCALENDAR
